BEGIN:VCALENDAR
VERSION:2.0
PRODID:-//Paroisse Saint-Louis Robertsau - ECPv6.15.17.1//NONSGML v1.0//EN
CALSCALE:GREGORIAN
METHOD:PUBLISH
X-ORIGINAL-URL:https://saint-louis-robertsau.fr
X-WR-CALDESC:Évènements pour Paroisse Saint-Louis Robertsau
REFRESH-INTERVAL;VALUE=DURATION:PT1H
X-Robots-Tag:noindex
X-PUBLISHED-TTL:PT1H
BEGIN:VTIMEZONE
TZID:UTC
BEGIN:STANDARD
TZOFFSETFROM:+0000
TZOFFSETTO:+0000
TZNAME:UTC
DTSTART:20240101T000000
END:STANDARD
END:VTIMEZONE
BEGIN:VEVENT
DTSTART;TZID=UTC:20251220T093000
DTEND;TZID=UTC:20251220T113000
DTSTAMP:20260421T095146
CREATED:20251023T123639Z
LAST-MODIFIED:20251023T123639Z
UID:9758-1766223000-1766230200@saint-louis-robertsau.fr
SUMMARY:Accueil au presbytère
DESCRIPTION:
URL:https://saint-louis-robertsau.fr/evenement/accueil-au-presbytere-38/
END:VEVENT
BEGIN:VEVENT
DTSTART;TZID=UTC:20251220T180000
DTEND;TZID=UTC:20251220T190000
DTSTAMP:20260421T095146
CREATED:20250626T115029Z
LAST-MODIFIED:20251208T142058Z
UID:9193-1766253600-1766257200@saint-louis-robertsau.fr
SUMMARY:Messe Rorate
DESCRIPTION:
URL:https://saint-louis-robertsau.fr/evenement/messe-anticipee-du-dimanche-24/
END:VEVENT
END:VCALENDAR