BEGIN:VCALENDAR
VERSION:2.0
PRODID:-//Paroisse Saint-Louis Robertsau - ECPv6.15.17.1//NONSGML v1.0//EN
CALSCALE:GREGORIAN
METHOD:PUBLISH
X-WR-CALNAME:Paroisse Saint-Louis Robertsau
X-ORIGINAL-URL:https://saint-louis-robertsau.fr
X-WR-CALDESC:Évènements pour Paroisse Saint-Louis Robertsau
REFRESH-INTERVAL;VALUE=DURATION:PT1H
X-Robots-Tag:noindex
X-PUBLISHED-TTL:PT1H
BEGIN:VTIMEZONE
TZID:UTC
BEGIN:STANDARD
TZOFFSETFROM:+0000
TZOFFSETTO:+0000
TZNAME:UTC
DTSTART:20250101T000000
END:STANDARD
END:VTIMEZONE
BEGIN:VEVENT
DTSTART;TZID=UTC:20260125T093000
DTEND;TZID=UTC:20260125T103000
DTSTAMP:20260421T080936
CREATED:20250929T133933Z
LAST-MODIFIED:20250929T133933Z
UID:9603-1769333400-1769337000@saint-louis-robertsau.fr
SUMMARY:Messe
DESCRIPTION:
URL:https://saint-louis-robertsau.fr/evenement/messe-157/
END:VEVENT
BEGIN:VEVENT
DTSTART;TZID=UTC:20260125T110000
DTEND;TZID=UTC:20260125T120000
DTSTAMP:20260421T080936
CREATED:20250925T122303Z
LAST-MODIFIED:20250925T122303Z
UID:9547-1769338800-1769342400@saint-louis-robertsau.fr
SUMMARY:Messe des Familles
DESCRIPTION:
URL:https://saint-louis-robertsau.fr/evenement/messe-des-familles-3/
END:VEVENT
END:VCALENDAR