BEGIN:VCALENDAR
VERSION:2.0
PRODID:-//Paroisse Saint-Louis Robertsau - ECPv6.15.17.1//NONSGML v1.0//EN
CALSCALE:GREGORIAN
METHOD:PUBLISH
X-ORIGINAL-URL:https://saint-louis-robertsau.fr
X-WR-CALDESC:Évènements pour Paroisse Saint-Louis Robertsau
REFRESH-INTERVAL;VALUE=DURATION:PT1H
X-Robots-Tag:noindex
X-PUBLISHED-TTL:PT1H
BEGIN:VTIMEZONE
TZID:UTC
BEGIN:STANDARD
TZOFFSETFROM:+0000
TZOFFSETTO:+0000
TZNAME:UTC
DTSTART:20250101T000000
END:STANDARD
END:VTIMEZONE
BEGIN:VEVENT
DTSTART;TZID=UTC:20260315T093000
DTEND;TZID=UTC:20260315T103000
DTSTAMP:20260421T081030
CREATED:20250929T134549Z
LAST-MODIFIED:20260115T093711Z
UID:9627-1773567000-1773570600@saint-louis-robertsau.fr
SUMMARY:Messe
DESCRIPTION:
URL:https://saint-louis-robertsau.fr/evenement/messe-161/
LOCATION:Eglise Saint Louis de la Robertsau\, 14 rue Jeanne d'Arc\, 67000 Strasbourg
END:VEVENT
BEGIN:VEVENT
DTSTART;TZID=UTC:20260315T110000
DTEND;TZID=UTC:20260315T120000
DTSTAMP:20260421T081030
CREATED:20250929T134615Z
LAST-MODIFIED:20260115T093724Z
UID:9629-1773572400-1773576000@saint-louis-robertsau.fr
SUMMARY:Messe
DESCRIPTION:
URL:https://saint-louis-robertsau.fr/evenement/messe-162/
LOCATION:Eglise Saint Louis de la Robertsau\, 14 rue Jeanne d'Arc\, 67000 Strasbourg
END:VEVENT
END:VCALENDAR